BEGIN:VCALENDAR
VERSION:2.0
PRODID:SchoolNow
CALSCALE:GREGORIAN
BEGIN:VEVENT
UID:4cbaf5f6-957f-11f0-9d3f-0a58a9feac02
DTSTAMP:20250919T173722Z
SUMMARY:CDD Board Meeting - Sept. 2026
LOCATION:Brentwood Clubhouse\, 8504 Sandpiper Ridge Avenue\, Tampa\, Florid
 a 33647.
URL;VALUE=URI:https://www.thehammockscdd.com/calendar/8643177/cdd-board-mee
 ting-sept-2026
DTSTART:20260909T120000Z
DTEND:20260909T130000Z
END:VEVENT
END:VCALENDAR
