BEGIN:VCALENDAR
VERSION:2.0
PRODID:SchoolNow
CALSCALE:GREGORIAN
BEGIN:VEVENT
UID:2baa17de-957f-11f0-8338-0a58a9feac02
DTSTAMP:20250919T173627Z
SUMMARY:CDD Board Meeting - May 2026
LOCATION:Brentwood Clubhouse\, 8504 Sandpiper Ridge Avenue\, Tampa\, Florid
 a 33647.
URL;VALUE=URI:https://www.thehammockscdd.com/calendar/8643173/cdd-board-mee
 ting-may-2026
DTSTART:20260513T120000Z
DTEND:20260513T130000Z
END:VEVENT
END:VCALENDAR
